BEGIN:VCALENDAR
VERSION:2.0
PRODID:-//wp-events-plugin.com//7.2.3.1//EN
TZID:America/Chicago
X-WR-TIMEZONE:America/Chicago
BEGIN:VEVENT
UID:131@nescmn.net
DTSTART;TZID=America/Chicago:20240320T120000
DTEND;TZID=America/Chicago:20240320T140000
DTSTAMP:20240318T153328Z
URL:https://nescmn.net/events/business-committee/
SUMMARY:Business Committee
DESCRIPTION:
CATEGORIES:Board Meetings
END:VEVENT
BEGIN:VTIMEZONE
TZID:America/Chicago
X-LIC-LOCATION:America/Chicago
BEGIN:DAYLIGHT
DTSTART:20240310T030000
TZOFFSETFROM:-0600
TZOFFSETTO:-0500
TZNAME:CDT
END:DAYLIGHT
END:VTIMEZONE
END:VCALENDAR