BEGIN:VCALENDAR
VERSION:2.0
PRODID:-//wp-events-plugin.com//7.2.3.1//EN
TZID:America/Chicago
X-WR-TIMEZONE:America/Chicago
BEGIN:VEVENT
UID:23@nescmn.net
DTSTART;TZID=America/Chicago:20231226T130000
DTEND;TZID=America/Chicago:20231226T150000
DTSTAMP:20241119T133933Z
URL:https://nescmn.net/events/board-meeting-2023-12-26/
SUMMARY:Board Meeting
DESCRIPTION:
CATEGORIES:Board Meetings
LOCATION:NESC\, 5525 Emerald Ave\, Mountain Iron\, MN\, United States
X-APPLE-STRUCTURED-LOCATION;VALUE=URI;X-ADDRESS=5525 Emerald Ave\, Mountain
  Iron\, MN\, United States;X-APPLE-RADIUS=100;X-TITLE=NESC:geo:0,0
END:VEVENT
BEGIN:VTIMEZONE
TZID:America/Chicago
X-LIC-LOCATION:America/Chicago
BEGIN:STANDARD
DTSTART:20231105T010000
TZOFFSETFROM:-0500
TZOFFSETTO:-0600
TZNAME:CST
END:STANDARD
END:VTIMEZONE
END:VCALENDAR